BEGIN:VCALENDAR
VERSION:2.0
PRODID:-//Centro olistico e Reiki Luisa - ECPv6.15.13.1//NONSGML v1.0//EN
CALSCALE:GREGORIAN
METHOD:PUBLISH
X-ORIGINAL-URL:https://centro-reiki.ch
X-WR-CALDESC:Eventi per Centro olistico e Reiki Luisa
REFRESH-INTERVAL;VALUE=DURATION:PT1H
X-Robots-Tag:noindex
X-PUBLISHED-TTL:PT1H
BEGIN:VTIMEZONE
TZID:Europe/Rome
BEGIN:DAYLIGHT
TZOFFSETFROM:+0100
TZOFFSETTO:+0200
TZNAME:CEST
DTSTART:20180325T010000
END:DAYLIGHT
BEGIN:STANDARD
TZOFFSETFROM:+0200
TZOFFSETTO:+0100
TZNAME:CET
DTSTART:20181028T010000
END:STANDARD
BEGIN:DAYLIGHT
TZOFFSETFROM:+0100
TZOFFSETTO:+0200
TZNAME:CEST
DTSTART:20190331T010000
END:DAYLIGHT
BEGIN:STANDARD
TZOFFSETFROM:+0200
TZOFFSETTO:+0100
TZNAME:CET
DTSTART:20191027T010000
END:STANDARD
BEGIN:DAYLIGHT
TZOFFSETFROM:+0100
TZOFFSETTO:+0200
TZNAME:CEST
DTSTART:20200329T010000
END:DAYLIGHT
BEGIN:STANDARD
TZOFFSETFROM:+0200
TZOFFSETTO:+0100
TZNAME:CET
DTSTART:20201025T010000
END:STANDARD
END:VTIMEZONE
BEGIN:VEVENT
DTSTART;TZID=Europe/Rome:20190108T200000
DTEND;TZID=Europe/Rome:20190108T213000
DTSTAMP:20260422T024311
CREATED:20180529T113520Z
LAST-MODIFIED:20190103T201601Z
UID:438-1546977600-1546983000@centro-reiki.ch
SUMMARY:Brindisi con panettone per accogliere il Nuovo Anno
DESCRIPTION:Carissimi in questo meraviglioso primo incontro del 2019 avremo l’occasione per brindare con tanto di panettone al nuovo anno. \nInizieremo con una Breve Meditazione dove Ringrazieremo per tutto quanto ci siamo lasciati alle spalle nel  2018. Non per tutti sarà semplice comprendere che  tutto quanto hanno vissuto nel 2018 ha avuto un significato. Ci sono stati momenti meravigliosi ma per alcuni momenti difficili … e per altri distacchi terreni dolorosi … ma tutto ha un motivo ed è servito per renderci più forti e per Imparare a Ringraziare\, a Lasciare Andare\, a Perdonare\, ad avere Gratitudine\, a Recidere\, ad Amare\, a Condividere … Approfitteremo inoltre tutti insieme per chiedere ai nostri Amati Maestri Spirituali\, al Creatore e alla nostra Amata Madre Maria e ai nostri Angeli e Arcangeli  quanto desideriamo per il 2019 e anche per chiedere di imparare a lasciare andare vecchi schemi che ci bloccano sui nostri obbiettivi. In questa occasione sarà aperta la busta che abbiamo preparato per il 2018 in modo che potremo anche riflettere su cosa dobbiamo migliorare e tanto altro ancora. Sarà rimesso con Amore nel Centro Olistico e Reiki Luisa accanto alla vostra busta dei desideri il vaso con il seme dei vostri sogni in attesa che durante l’anno 2019 fiorisca. Io Luisa mi impegnerò a nutrirla e a innaffiarla con amore tutti i giorni. \nPotete invitare parenti\, amici\, conoscenti …\nGrazie per il passaparola. \nCONTRIBUTO PER LA SERATA:  CHF 30.00 da consegnare a Luisa all’inizio della serata. \nAssicurazioni/Responsabilità: L’assicurazione è a carico dei partecipanti. Gli organizzatori declinano ogni responsabilità in caso d’incidente\, danni materiali o furto. Ogni partecipante è in tutti i casi responsabile per se stesso. \nCOSA PORTARE: \n\nPlaid e cuscino personali\nAccederai alla sala senza scarpe – porta con te un paio di calze per stare al caldo\nConsuma un pasto leggero\nPorta con te una bottiglia d’acqua\nfoglio bianco con le tue richieste per il 2019\n\n  \nIscrizioni:  \ninfo@centro-reiki.ch oppure chiamare lo 0041 79 715 32 59 \nIn caso avessi prenotato ma non potrai più partecipare\, sii responsabile\, per cortesia avvisa subito telefonicamente! \nUn abbraccio di Luce\, Pace e Amore per tutti. Luisa Macocchi-Del Priore \nSensitiva – Master Reiki – PNL -ThetaHealing® – Messaggera/Sacerdote di Luce Diamante con L’Arcangelo Metatron – Litios® Cristalli di Luce – Certified Angel Card Readers Channel By Doreen Virtue – Medium Angelica – Fiamma Viola di St. Germain \n  \nALTRE INFORMAZIONI LE TROVI SUL MIO SITO:\nwww.centro-reiki.ch\ninfo@centro-reiki.ch\n+41(0)797153259
URL:https://centro-reiki.ch/evento/meditazione-per-salutare-il-2018-e-accogliere-il-nuovo-anno/
LOCATION:Centro Olistico e Reiki Luisa\, Via Villibaldo Bastoria 15\, Locarno\, Svizzera
CATEGORIES:Brindisi,Channeling,Meditazione
ATTACH;FMTTYPE=image/jpeg:https://centro-reiki.ch/wp-content/uploads/2018.jpg
END:VEVENT
END:VCALENDAR