BEGIN:VCALENDAR
VERSION:2.0
PRODID:-//Centro olistico e Reiki Luisa - ECPv6.15.13.1//NONSGML v1.0//EN
CALSCALE:GREGORIAN
METHOD:PUBLISH
X-WR-CALNAME:Centro olistico e Reiki Luisa
X-ORIGINAL-URL:https://centro-reiki.ch
X-WR-CALDESC:Eventi per Centro olistico e Reiki Luisa
REFRESH-INTERVAL;VALUE=DURATION:PT1H
X-Robots-Tag:noindex
X-PUBLISHED-TTL:PT1H
BEGIN:VTIMEZONE
TZID:Europe/Rome
BEGIN:DAYLIGHT
TZOFFSETFROM:+0100
TZOFFSETTO:+0200
TZNAME:CEST
DTSTART:20180325T010000
END:DAYLIGHT
BEGIN:STANDARD
TZOFFSETFROM:+0200
TZOFFSETTO:+0100
TZNAME:CET
DTSTART:20181028T010000
END:STANDARD
BEGIN:DAYLIGHT
TZOFFSETFROM:+0100
TZOFFSETTO:+0200
TZNAME:CEST
DTSTART:20190331T010000
END:DAYLIGHT
BEGIN:STANDARD
TZOFFSETFROM:+0200
TZOFFSETTO:+0100
TZNAME:CET
DTSTART:20191027T010000
END:STANDARD
BEGIN:DAYLIGHT
TZOFFSETFROM:+0100
TZOFFSETTO:+0200
TZNAME:CEST
DTSTART:20200329T010000
END:DAYLIGHT
BEGIN:STANDARD
TZOFFSETFROM:+0200
TZOFFSETTO:+0100
TZNAME:CET
DTSTART:20201025T010000
END:STANDARD
END:VTIMEZONE
BEGIN:VEVENT
DTSTART;TZID=Europe/Rome:20190410T200000
DTEND;TZID=Europe/Rome:20190410T213000
DTSTAMP:20260423T004446
CREATED:20190306T111331Z
LAST-MODIFIED:20190306T111331Z
UID:1045-1554926400-1554931800@centro-reiki.ch
SUMMARY:CONFERENZA PUBBLICA (ingresso libero) Antonio Pacetti introduce la Numerologia Vedica e La Pace nel Cuore
DESCRIPTION:CONFERENZA PUBBLICA (Ingresso Libero) \nAntonio Pacetti introduce la Numerologia Vedica e La Pace nel Cuore \nDue Pratiche per dare chiarezza alla propria fase di vita. \nDue unici ed originali inviti per risolvere il bisogno di vivere la relazione con se stessi e con gli altri\, in pace ed equilibrio. \nUN DUPLICE CONTRIBUTO A VIVERE LA SPIRITUALITÀ \nPer quanto attiene la NUMEROLOGIA VEDICA si può dire che l’interpretazione della data di nascita fa parte dell’antica cultura Indiana dei Veda\, una cultura così attuale al punto che a questa hanno attinto le scienze moderne e gli orientamenti olistici alla conoscenza. \nCon il metodo della Numerologia Vedica si chiarisce la propria fase di vita\, si valorizzano i propri talenti e si accresca l’invito ad una visione spirituale della vita. \nPer sapere di più e conoscere meglio Antonio Pacetti non ti resta che provare a partecipare alla CONFERENZA PUBBLICA. \nPer informazioni e prenotazioni siete pregati di telefonare: T. +41 (0) 79 715 32 59 \nLuisa Macocchi-Del Priore e Antonio Pacetti vi aspettano numerosi.
URL:https://centro-reiki.ch/evento/conferenza-pubblica-ingresso-libero-antonio-pacetti-introduce-la-numerologia-vedica-e-la-pace-nel-cuore/
LOCATION:Centro Olistico e Reiki Luisa\, Via Villibaldo Bastoria 15\, Locarno\, Svizzera
CATEGORIES:Conferenza pubblica,Numerologia
ATTACH;FMTTYPE=image/jpeg:https://centro-reiki.ch/wp-content/uploads/images-5.jpg
END:VEVENT
BEGIN:VEVENT
DTSTART;TZID=Europe/Rome:20190411T090000
DTEND;TZID=Europe/Rome:20190411T170000
DTSTAMP:20260423T004446
CREATED:20190306T112231Z
LAST-MODIFIED:20190306T191501Z
UID:1048-1554973200-1555002000@centro-reiki.ch
SUMMARY:Numerologia Vedica CONSULTAZIONI INDIVIDUALI per Adulti e Genitori
DESCRIPTION:Numerologia Vedica CONSULTAZIONI INDIVIDUALI per Adulti e Genitori dalle 09:00 alle 17.00 \nLa Numerologia vedica è un metodo di lettura indiano\, trasmesso “da bocca ad orecchio”\, fin dai tempi antichi. \nLeggendo i 12 numeri\, che si sviluppano dalla data di nascita\, Antonio tiene consultazioni individuali\, utili a tutti coloro (Adulti\, Genitori\, Professionisti) che hanno bisogno di Chiarezza su quanto accade nell’attuale fase della loro vita. La Chiarezza si raggiunge valorizzando i talenti e mettendo in luce gli elementi “ombra” che deviano o bloccano il processo di crescita. Inoltre\, con le risposte alle richieste e ai bisogni\, la consultazione rende più chiare le tendenze future. L’orientamento di base della lettura numerologica è quello di contribuire ad incrementare la ricerca spirituale. Per le tante cose che emergono sempre con la lettura numerologica (che dura mediamente un’ora)\, si consiglia di registrare la consultazione.  Nella consultazione è compreso un servizio: si potrà scrivere in futuro ad Antonio per qualsiasi motivo e la risposta è mediamente entro le 24 ore. \nSede per le consulenze individuali: \nCentro Olistico e Reiki Luisa\, Via Vilibaldo Bastoria 15\, 6600 Locarno-Solduno \nwww.centro-reiki.ch \ne-mail: info@centro-reiki.ch \nRequisiti per partecipare: \nTutti possono partecipare e non necessitano di requisiti necessari. \nAttività:\nL’attività di Antonio Pacetti viene svolta sotto la propria responsabilità professionale. \nAssicurazioni/Responsabilità: L’assicurazione è a carico dei partecipanti. Gli organizzatori declinano ogni responsabilità in caso d’incidente\, danni materiali o furto. Ogni partecipante è in tutti i casi responsabile per se stesso. \nISCRIZIONE E COMUNICAZIONE DELL’ORARIO DELLA CONSULENZA INDIVIDUALE CONVALIDATA: \nL’iscrizione alla consulenza è convalidata solo con il pagamento della consulenza di Franchi 150.00 che è da versare entro il 5 aprile 2019 (tutti i dettagli per il versamento nonché ulteriori informazioni per confermare la tua presenza saranno forniti agli iscritti tramite e-mail). \nIscrizione/presenza per la consulenza individuale è confermata contattando o scrivendo:  \ninfo@centro-reiki.ch oppure chiamare lo 0041(0) 79 715 32 59 \n  \nIn caso avessi prenotato ma non potrai più partecipare\, sii responsabile\, per cortesia avvisa subito telefonicamente! \nIl pagamento della consulenza non sarà rimborsato in caso di ritiro del partecipante\, ma sarà restituito in caso di cancellazione dell’evento. \nCon amore tramite  Luisa Macocchi-Del Priore \nSensitiva – Master Reiki – PNL -ThetaHealing® – Messaggera/Sacerdote di Luce Diamante con L’Arcangelo Metatron – Litios® Cristalli di Luce – Certified Angel Card Readers Channel By Doreen Virtue – Medium Angelica – Fiamma Viola di St. Germain \nALTRE INFORMAZIONI LE TROVI SUL MIO SITO:\nwww.centro-reiki.ch\ninfo@centro-reiki.ch\n+41(0)797153259 \n  \nSe sei interessata/o a iscriverti alla newsletter ti chiediamo di inviare i tuoi dati scrivendo a: info@centro-reiki.ch \nwww.centro-reiki.ch \nNome: \nCognome: \nTelefono: \nIndirizzo Email: \n  \n 
URL:https://centro-reiki.ch/evento/numerologia-vedica-consultazioni-individuali-per-adulti-e-genitori/
LOCATION:Centro Olistico e Reiki Luisa\, Via Villibaldo Bastoria 15\, Locarno\, Svizzera
CATEGORIES:Consultazioni individuali,Numerologia
ATTACH;FMTTYPE=image/jpeg:https://centro-reiki.ch/wp-content/uploads/download-4.jpg
END:VEVENT
BEGIN:VEVENT
DTSTART;TZID=Europe/Rome:20190411T173000
DTEND;TZID=Europe/Rome:20190411T203000
DTSTAMP:20260423T004446
CREATED:20190221T165407Z
LAST-MODIFIED:20190308T105004Z
UID:1006-1555003800-1555014600@centro-reiki.ch
SUMMARY:LA PACE DEL CUORE
DESCRIPTION:LA PACE DEL CUORE \nUna pratica per ritrovare la pace in noi \n  \nAntonio Pacetti ha creato piano piano\, a partire dal 1996\, questa pratica unica ed originale\, che contribuisce a risolvere il bisogno dell’uomo moderno di vivere la Relazione con se stesso e con gli altri\, in pace ed in equilibrio. \n  \nLo Scopo si raggiunge coordinando quattro organi del nostro corpo: Polmoni\, Cuore\, Colonna vertebrale e la Mente. \nNel Seminario esperienziale di circa 4 ore\, vengono effettuati esercizi per unire le attività di questi quattro organi: il Respiro in sintonia con il Battito Cardiaco\, effettuando una Camminata\, e mormorando le Parole di una frase esortativa o di una Preghiera. \nLa Pace del Cuore è una pratica da farsi pochi minuti al giorno\, senza sforzo\, quando uno se la sente di farla. Inoltre\, ciascuno potrà utilizzare tutti o alcuni dei quattro organi\, in base ai propri bisogni del momento\, fino al punto di raggiungere l’Obiettivo di farsi guidare nelle scelte quotidiane. \nAl termine del Seminario viene consegnato un MANUALE TASCABILE che riporta le cose dette e fatte durante il Seminario. \nPer saperne di più\, c’è un video in: \nwww.numerologiavedica.it \n  \nSede: \nCentro Olistico e Reiki Luisa\, Via Vilibaldo Bastoria 15\, 6600 Locarno-Solduno \nwww.centro-reiki.ch \ne-mail: info@centro-reiki.ch \nRequisiti per partecipare: \nTutti possono partecipare e non necessitano di requisiti necessari. \nI posti sono limitati. Il seminario avrà luogo con un numero massimo di 6 persone. \nQuesto garantisce all’operatore Antonio Pacetti di curare tutto e di prestare costante attenzione ad ogni singolo partecipante. \nLa partecipazione all’evento richiede il pagamento del seminario da versare entro 10 giorni dall’evento sul conto corrente bancario che vi verrà comunicato per e-mail scrivendo a: info@centro-reiki.ch \nAttività:\nL’attività di Antonio Pacetti viene svolta sotto la propria responsabilità professionale. \nAssicurazioni/Responsabilità: L’assicurazione è a carico dei partecipanti. Gli organizzatori declinano ogni responsabilità in caso d’incidente\, danni materiali o furto. Ogni partecipante è in tutti i casi responsabile per se stesso. \nISCRIZIONE CONVALIDATA: \nL’iscrizione è convalidata solo con il pagamento del seminario che è da versare entro 10 giorni dall’inizio del seminario (tutti i dettagli per il versamento nonché ulteriori informazioni per confermare la tua presenza saranno forniti agli iscritti al corso tramite e-mail). \nIscrizione/presenza è confermata contattando o scrivendo a:  \ninfo@centro-reiki.ch oppure chiamare lo 0041(0) 79 715 32 59 \nIn caso avessi prenotato ma non potrai più partecipare\, sii responsabile\, per cortesia avvisa subito telefonicamente! \nIl pagamento del corso non sarà rimborsato in caso di ritiro del partecipante\, ma sarà restituito in caso di cancellazione del seminario. \nCon amore tramite  Luisa Macocchi-Del Priore \nSensitiva – Master Reiki – PNL -ThetaHealing® – Messaggera/Sacerdote di Luce Diamante con L’Arcangelo Metatron – Litios® Cristalli di Luce – Certified Angel Card Readers Channel By Doreen Virtue – Medium Angelica – Fiamma Viola di St. Germain \nALTRE INFORMAZIONI LE TROVI SUL MIO SITO:\nwww.centro-reiki.ch\ninfo@centro-reiki.ch\n+41(0)797153259 \n 
URL:https://centro-reiki.ch/evento/la-pace-del-cuore/
LOCATION:Centro Olistico e Reiki Luisa\, Via Villibaldo Bastoria 15\, Locarno\, Svizzera
CATEGORIES:Meditazione,Numerologia,Seminario,Serata a tema,Spritualità
ATTACH;FMTTYPE=image/jpeg:https://centro-reiki.ch/wp-content/uploads/images-1.jpg
END:VEVENT
END:VCALENDAR