BEGIN:VCALENDAR
VERSION:2.0
PRODID:-//Centro olistico e Reiki Luisa - ECPv6.15.13.1//NONSGML v1.0//EN
CALSCALE:GREGORIAN
METHOD:PUBLISH
X-WR-CALNAME:Centro olistico e Reiki Luisa
X-ORIGINAL-URL:https://centro-reiki.ch
X-WR-CALDESC:Eventi per Centro olistico e Reiki Luisa
REFRESH-INTERVAL;VALUE=DURATION:PT1H
X-Robots-Tag:noindex
X-PUBLISHED-TTL:PT1H
BEGIN:VTIMEZONE
TZID:Europe/Zurich
BEGIN:DAYLIGHT
TZOFFSETFROM:+0100
TZOFFSETTO:+0200
TZNAME:CEST
DTSTART:20230326T010000
END:DAYLIGHT
BEGIN:STANDARD
TZOFFSETFROM:+0200
TZOFFSETTO:+0100
TZNAME:CET
DTSTART:20231029T010000
END:STANDARD
BEGIN:DAYLIGHT
TZOFFSETFROM:+0100
TZOFFSETTO:+0200
TZNAME:CEST
DTSTART:20240331T010000
END:DAYLIGHT
BEGIN:STANDARD
TZOFFSETFROM:+0200
TZOFFSETTO:+0100
TZNAME:CET
DTSTART:20241027T010000
END:STANDARD
BEGIN:DAYLIGHT
TZOFFSETFROM:+0100
TZOFFSETTO:+0200
TZNAME:CEST
DTSTART:20250330T010000
END:DAYLIGHT
BEGIN:STANDARD
TZOFFSETFROM:+0200
TZOFFSETTO:+0100
TZNAME:CET
DTSTART:20251026T010000
END:STANDARD
END:VTIMEZONE
BEGIN:VTIMEZONE
TZID:Europe/Rome
BEGIN:DAYLIGHT
TZOFFSETFROM:+0100
TZOFFSETTO:+0200
TZNAME:CEST
DTSTART:20230326T010000
END:DAYLIGHT
BEGIN:STANDARD
TZOFFSETFROM:+0200
TZOFFSETTO:+0100
TZNAME:CET
DTSTART:20231029T010000
END:STANDARD
BEGIN:DAYLIGHT
TZOFFSETFROM:+0100
TZOFFSETTO:+0200
TZNAME:CEST
DTSTART:20240331T010000
END:DAYLIGHT
BEGIN:STANDARD
TZOFFSETFROM:+0200
TZOFFSETTO:+0100
TZNAME:CET
DTSTART:20241027T010000
END:STANDARD
BEGIN:DAYLIGHT
TZOFFSETFROM:+0100
TZOFFSETTO:+0200
TZNAME:CEST
DTSTART:20250330T010000
END:DAYLIGHT
BEGIN:STANDARD
TZOFFSETFROM:+0200
TZOFFSETTO:+0100
TZNAME:CET
DTSTART:20251026T010000
END:STANDARD
END:VTIMEZONE
BEGIN:VEVENT
DTSTART;TZID=Europe/Zurich:20240513T091500
DTEND;TZID=Europe/Zurich:20240513T183000
DTSTAMP:20260422T033314
CREATED:20240420T093849Z
LAST-MODIFIED:20240420T093903Z
UID:6096-1715591700-1715625000@centro-reiki.ch
SUMMARY:Seminario Primo Livello Reiki Metodo Usui
DESCRIPTION:“`Promemoria Reiki e Informazioni Importanti“`\n \n  \nI corsi si tengono nella giornata di Domenica presso SCUOLA REIKI PER TUTTI:\nSede:\nVia Villibaldo Bastoria 15\n6600 Locarno\nwww.centro-reiki.ch\ninfo@centro-reiki.ch \nSU RICHIESTA E FATTIBILE RICHIEDERE DI SVOLGERE IL CORSO INDIVIDUALMENTE E IN UN ALTRA GIORNATA\nLasciate la vostra mail nel modulo sottostante\, e riceverete nelle prossime 24 ore tutte le informazioni che desiderate sul seminario Reiki. \n\n\n\n  \n\n\n\n \n \n \n \n \n \n \n \nSeleziona il livello desiderato *\n—Seleziona un'opzione—Primo livelloSecondo livelloTerzo livelloMaster\n \n \n \nInviando il formulario accetto di essere iscritto alla newsletter e di ricevere invii futuri *\n \n\n ×\n\n\n \n\n\n  \nPrezzo: CHF 340.00 – 1 giornata dalle ore 09:15 alle ore 18:45 (260.00 CHF fino ai 25 anni e dai 55 anni in su) \nLasciate la vostra mail nel modulo sottostante\, e riceverete nelle prossime 24 ore tutte le informazioni che desiderate sul seminario Reiki. \n\n\n\n  \n\n\n\n \n \n \n \n \n \n \n \n \n \nNumero di partecipanti 123456\n \nInviando il formulario accetto di essere iscritto alla newsletter e di ricevere invii futuri *\n \n\n ×\n\n\n \n  \nInformazioni Seminario Primo Livello Reiki Usui a Locarno SCUOLA REIKI PER TUTTI\n\n\n\nIN CASO DI MANCATA PARTECIPAZIONE QUESTE SONO LE REGOLE PER IL RIMBORSO: \nRinuncia almeno 40 giorni prima dell’evento o seminario: \nRestituzione totale della caparra/quota versata. \nRinuncia tra 15 giorni e un mese prima dell’evento o seminario: \n50% della quota verrà trattenuta \nRinuncia 2 settimane prima dell’evento la quota viene trattenuta e o eventualmente bonificata per un prossimo evento. \nLe iscrizioni chiudono 5 giorni prima dell’evento. \nL’organizzazione si riserva di rimandare o annullare il corso se non viene raggiunto il numero minimo di partecipanti. In caso di annullamento da parte dell’organizzazione\, viene rimborsata al partecipante l’intera somma della quota pagata. Viene rimborsata al partecipante l’intera somma della quota pagata anche in caso di rinvio salvo se il partecipante chiede di trattenere i soldi per la prossima data che verrà concordata in merito all’evento/seminario che è stato rimandato a data da definire. \nLe persone iscritte verranno avvisate del rinvio al più tardi 3 giorni prima della data prevista per il corso. \nASSICURAZIONI/RESPONSABILITÀ: \nL’assicurazione è a carico dei partecipanti. Gli organizzatori declinano ogni responsabilità in caso d’incidente\, danni materiali o furto. Ogni partecipante è in tutti i casi responsabile per sé stesso. \nSVOLGIMENTO DEL SEMINARIO:\nIl seminario si terrà con un minimo di 2 persone fino ad un massimo di 6/8 persone onde mantenere una buona energia di gruppo. \nSVOLGIMENTO DEL SEMINARIO:\nIl seminario si terrà con un minimo di 2 persone fino ad un massimo di 6/8 persone onde mantenere una buona energia di gruppo. \n  \n\n\n\nInsegnamenti del Corso Reiki Primo Livello Usui\nConsiste nell’armonizzazione rituale del canale di energia Universale e l’apprendimento delle posizioni chiave delle mani per effettuare i vari trattamenti. \nRicevere l’apertura del canale di Energia Universale dal Reiki Master e a volte con gruppi di più persone con ben due Master Reiki un esperienza indimenticabile in quanto le 4 attivazioni vengono svolte 4 volte dalla Master Reiki Luisa con l’energia femminile e 4 volte con l’Energia Maschile del Master Reiki Alex Dawson o del Master Reiki Alain Dotta. \nUn corso di Primo Livello Reiki strutturato in 1 GIORNATA di didattica teorico-pratica di 8/1o ore \n \nSPIEGAZIONE BREVE: \n\nObiettivi del Corso di Reiki di 1° livello:\n\nStoria del Reiki\nSpiegazione di Mikao Usui\nSpiegazione dei 7 Chakra\nIl Reiki rivolto a noi stessi\nSull’arco della giornata 4 iniziazioni\, se con due Master Reiki 8 attivazioni cioè 4 con l’Energia femminile della Master Luisa Macocchi-Del Priore e 4 con l’Energia maschile del Master Alex Dawson o del Master Alain Dotta\, per il conseguimento del Primo Livello Reiki\nPosizioni del Reiki\nTrattamento Veloce\nEnergizzare gli altri\, gli animali e le piante\nReiki al cibo\, all’acqua\, agli ambienti\nRimettere in equilibrio i 7 Chakra per il libero fluire dell’energia universale\nAccarezzamento dell’aura\nPratiche meditative e primi approcci di canalizzazione energetica\nPratiche di auto trattamento.\nPratiche di trattamento completo.\n\n  \nINOLTRE:\n\nRicevere le informazioni necessarie per praticare il Reiki con la massima serietà e professionalità.\nConsegna di un fascicolo di quasi 70 pagine inerente il Primo Livello Reiki a cura della Master Reiki Luisa Macocchi-Del Priore\nPraticare l’auto-trattamento\, il trattamento completo\, il trattamento veloce\, il riequilibrio dei chakra.\n\n  \nIMPORTANTE:\nIl passaggio energetico  “Attivazione al Reiki” si armonizza\, una sola volta ed è valido per tutta la vita. \nCONSEGNA DIPLOMI:\nConsegna dei diplomi di Reiki Uno della Scuola “Reiki per tutti” con sede presso il Centro Olistico e Reiki Luisa in via Villibaldo Bastoria 15 a Locarno (TI)  Svizzera di Luisa Macocchi-Del Priore e Alex Dawson. \n \nPROMEMORIA IMPORTANTE:\nReiki Usui metodo naturale di guarigione\nL’auto-trattamento o il trattamento di Reiki Usui avviene attraverso l’imposizione delle mani sul o vicino al corpo del ricevente. Usando le tradizionali posizioni chiave\, si ricarica la parte debole\, ristabilendo il processo di guarigione autonomo presente nell’organismo. \nL’operatore Reiki trasmette energia Universale\nÈ importante sapere che l’energia trasmessa (a sé oppure agli altri) non è personale\, ma bensì Universale.\nVale a dire che l’operatore  Reiki\, non si stanca\, ma anzi permette al suo corpo di purificarsi e rigenerarsi al passaggio dell’energia. \nIl Reiki è di tutti e per tutti\n\nIl Reiki si può trasmettere a tutti e a tutto\, anche agli animali\, alle piante e a situazioni di vita.\nIl Reiki non necessita di diagnosi\, eppure armonizza tutti gli strati della personalità\, corpo\, mente e spirito.\nOgnuno può adoperarlo ed in qualsiasi luogo.\nAgisce subito e dura nel tempo. La sua azione è sempre completa e non diretta solo ai sintomi.\n\nL’insegnamento completo del Reiki si divide in tre livelli:\nIl 1° livello permette di autotrattarsi e di imparare a fare diversi tipi di trattamenti su altre persone\, come il trattamento veloce\, il trattamento completo e il trattamento dei chakra.\nNel corso di 2° livello si impara ad usare i simboli e l’energia per fare trattamenti a distanza\, risanare ambienti\, ecc..\nNel 3° livello si riceve il simbolo del maestro che potenzia l’energia e si impara ad usarlo.\nLa 2.a parte del 3° livello chiamato Masster Reiki permette di ricevere la Maestria e l’insegnamento per poter insegnare il Reiki Usui. \nUna volta ricevuto il Terzo Livello Reiki deve passare un ulteriore periodo di almeno tre anni di pratica e di supervisione per integrare adeguatamente l’energia del Terzo Livello con tutti i simboli prima di poter ricevere l’Attestazione come Maestro/a di Reiki della “Scuola Reiki per tutti” a Locarno almeno che non si tratti di allievi che seguono il Reiki e lo praticano nella vita quotidiana e sulle persone da alcuni anni. \nMaster Reiki Luisa Macocchi-Del Priore \n  \nhttps://centro-reiki.ch/wp-content/uploads/VID-20211001-WA0022.mp4\n  \n💎💎💎 \nIMPORTANTE:\nI TRATTAMENTI DI CUI SOPRA NON SOSTITUISCONO IN ALCUN MODO QUELLI DEL MEDICO\, DELLO PSICOLOGO O DI QUALUNQUE ALTRO OPERATORE SOCIO-SANITARIO. NON VENGONO EFFETTUATE DIAGNOSI DI CARATTERE MEDICO O PSICOLOGICO\, NON VENGONO PRESCRITTI O SOMMINISTRATI FARMACI DI ALCUN TIPO E I TRATTAMENTI SI REALIZZANO CON LA PERSONA NORMALMENTE VESTITA. \nNON sono un Medico\, NON faccio diagnosi e NON prometto Guarigioni. L’ospite che arriva nel mio centro si assume la piena responsabilità per le proprie azioni e le proprie decisioni\, prima\, durante e dopo il trattamento. \n💎💎💎 \nINFORMAZIONE IMPORTANTE\nQuando nei miei scritti o nel mio sito viene utilizzata la parola “Guarigione” o suoi sinonimi\, devono essere interpretati come felicità\, pace\, armonia\, guarigione spirituale. Eventuali miglioramenti dello stato fisico andranno interpretati come un possibile effetto di questo ritrovato stato di armonia. L’operatore Reiki\, rispettivamente una Medium e Sensitiva Angelica e qualsiasi altro operatore che opere nel Centro Olistico e Reiki Luisa NON è un medico. In nessun caso può prescrivere o sconsigliare l’uso di farmaci\, cure o terapie. \n💎💎💎 \n𝙌𝙐𝙀𝙎𝙏𝙊 È 𝙐𝙉 𝙎𝙀𝙍𝙑𝙄𝙕𝙄𝙊 𝙊𝙇𝙄𝙎𝙏𝙄𝘾𝙊 𝙍𝙄𝙑𝙊𝙇𝙏𝙊 𝘼𝙇 𝙍𝙄𝙀𝙌𝙐𝙄𝙇𝙄𝘽𝙍𝙄𝙊 𝙀𝙉𝙀𝙍𝙂𝙀𝙏𝙄𝘾𝙊\, 𝙀 𝙉𝙊𝙉 𝙐𝙉 𝙏𝙍𝘼𝙏𝙏𝘼𝙈𝙀𝙉𝙏𝙊 𝙈𝙀𝘿𝙄𝘾𝙊 /𝙁𝙄𝙎𝙄𝙊𝙏𝙀𝙍𝘼𝙋𝙄𝘾𝙊 /𝙋𝙎𝙄𝘾𝙊𝙇𝙊𝙂𝙄𝘾𝙊 /𝙋𝙎𝙄𝘾𝙃𝙄𝘼𝙏𝙏𝙍𝙄𝘾𝙊 𝘿𝙄 𝘼𝙇𝘾𝙐𝙉 𝙏𝙄𝙋𝙊. \n📌 𝙏𝙐𝙏𝙏𝙀 𝙇𝙀 𝙄𝙉𝙁𝙊𝙍𝙈𝘼𝙕𝙄𝙊𝙉I SULLA SCUOLA REIKI\, SUI VARI SEMINARI REIKI\, E ULTERIORI DELUCIDAZIONI VAI SUL LINNK DELLA SCUOLA REIKI DEL 𝙎𝙄𝙏𝙊 !!! 📌 \n  \n 
URL:https://centro-reiki.ch/evento/seminario-primo-livello-reiki-metodo-usui-17/
LOCATION:Centro Olistico e Reiki Luisa\, Via Villibaldo Bastoria 15\, Locarno\, Svizzera
CATEGORIES:Benessere e relax,Meditazione,Seminari Reiki,Seminario,Seminario Reiki,Spritualità,Trattamenti energetici
ATTACH;FMTTYPE=image/jpeg:https://centro-reiki.ch/wp-content/uploads/reiki-due.jpg
ORGANIZER;CN="Luisa Macocchi-Del Priore":MAILTO:info@centro-reiki.ch
END:VEVENT
BEGIN:VEVENT
DTSTART;TZID=Europe/Rome:20240525T143000
DTEND;TZID=Europe/Rome:20240525T170000
DTSTAMP:20260422T033314
CREATED:20200830T175539Z
LAST-MODIFIED:20240420T101407Z
UID:1790-1716647400-1716656400@centro-reiki.ch
SUMMARY:Conferenza e trattamenti energetici di Allineamento Divino secondo il metodo Heilerschule di Anne Hübner con Claudio Galli
DESCRIPTION:Conferenza e trattamenti energetici di Allineamento Divino secondo il metodo Heilerschule di Anne Hübner con Claudio Galli \n  \n \n  \nDopa le meravigliose giornate di Allineamento Divino dove ho constatato di persona la professionalità di Claudio Galli nonché il vedere con i miei occhi le persone tornare a casa gioiose\, felici e solari … con grande piacere il Centro Olistico e Reiki Luisa a Locarno ha il piacere di ospitare nuovamente Claudio Galli il giorno sabato 15 giugno a partire dalle 14:30 che terrà una conferenza dove ci spiegherà bene questo meraviglioso trattamento energetico che senza manipolazione determina il raddrizzamento della colonna vertebrale. Questo è possibile perché l’Allineamento è un attivazione energetica e va a lavorare all’interno\, modificando l’informazione nella nostra parte più intelligente\, quella spirituale. Inoltre si attiva una capacità di auto-guarigione in ogni persona. \n  \n \nAllineamento Divino si riceve una sola volta nella vita e senza alcun contatto fisico\, senza manipolazioni l’intera struttura osseo-scheletrica si riposiziona unicamente attraverso la forza dello Spirito. \n  \n \n  \nL’Allineamento Divino della colonna vertebrale viene praticato in Germania dal 1995 e da allora oltre 300.000 persone sono state trattate con successo con questo metodo. Dal 2004 in Germania è possibile esercitare la professione di Guaritore Spirituale. \nCompito del Guaritore Spirituale è di dare un impulso che attivi il processo di “Guarigione Spirituale” nell’individuo senza occuparsi né del tempo né del risultato. Per “Guaritore Spirituale” si intende l’avvio di un processo energetico che si manifesta su tutti i livelli dell’individuo. Tale processo è interamente ad opera dell’individuo stesso. \n  \n  \n  \nEssendo l’Allineamento Divino un’attivazione energetica e NON una terapia medica o psicologica\, NON possono parteciparvi persone affette da malattie cardiache o disturbi mentali e psicosi. Inoltre\, ciascuno si assume la piena responsabilità del lavoro che andrà a fare. \n  \n \n  \nL’Allineamento Divino si terrà presso il Centro Olistico e  Reiki  Luisa di Luisa Macocchi a Locarno\, splendida cittadina sul lago Maggiore nel Canton Ticino in Svizzera\, luogo ideale per accogliervi e permettervi di fare presenziare alla Conferenza e per chi lo desidera di Ricevere tramite il Guaritore Spirituale Claudio Galli questa delicata e importante attivazione energetica. \nDi Claudio Galli: \nAllineamento Divino è un trattamento energetico spirituale\, che tramite un’attivazione spirituale determina lo scioglimento dei blocchi emozionali presenti nel corpo che a loro volta sciolgono dolori i fisici.\nIl trattamento è visibile e dimostrabile nel momento con piccole misurazioni della postura.\nQueste servono solamente al ricevente per comprendere ciò che la mente non vede. \n \n  \nSIETE PREGATI DI FARVI ACCOMPAGNARE\n  \n\n  \n  \n  \nPOTRETE SENTIRE ANCHE LE MERAVIGLIOSE TESTIMONIANZE DI CHI HA RICEVUTO L’ALLINEAMENTO DIVINO DA CLAUDIO GALLI. \n  \nAttività:\nL’attività di Claudio Galli viene svolta sotto la propria responsabilità professionale. \nAssicurazioni/Responsabilità: L’assicurazione è a carico dei partecipanti. Gli organizzatori declinano ogni responsabilità in caso d’incidente\, danni materiali o furto. Ogni partecipante è in tutti i casi responsabile per se stesso. \n  \n\n\n\n\n\n\n\n\n\nIMPORTANTE:\nI TRATTAMENTI DI CUI SOPRA NON SOSTITUISCONO IN ALCUN MODO QUELLI DEL MEDICO\, DELLO PSICOLOGO O DI QUALUNQUE ALTRO OPERATORE SOCIO-SANITARIO. NON VENGONO EFFETTUATE DIAGNOSI DI CARATTERE MEDICO O PSICOLOGICO\, NON VENGONO PRESCRITTI O SOMMINISTRATI FARMACI DI ALCUN TIPO E I TRATTAMENTI SI REALIZZANO CON LA PERSONA NORMALMENTE VESTITA. \n  \nClaudio Galli e io Luisa Macocchi-Del Priore NON siamo Medici\, NON facciamo diagnosi e NON promettiamo Guarigioni. \n  \nL’ospite che arriva nel mio centro si assume la piena responsabilità per le proprie azioni e le proprie decisioni\, prima\, durante e dopo il trattamento. \n  \n \nINFORMAZIONE IMPORTANTE\nQuando in questo sito viene utilizzata la parola “Guarigione” o suoi sinonimi\, devono essere interpretati come felicità\, pace\, armonia\, guarigione spirituale. Eventuali miglioramenti dello stato fisico andranno interpretati come un possibile effetto di questo ritrovato stato di armonia. L’operatore Reiki\, rispettivamente una Medium e Sensitiva Angelica e qualsiasi altro operatore che opere nel Centro Olistico e Reiki Luisa NON è un medico. In nessun caso può prescrivere o sconsigliare l’uso di farmaci\, cure o terapie. \n\n\n\n\n\n\n\n\n\n  \n\n\n\n\n\n\n\n\n\n\n\n\n\n\nIMPORTANTE: \nIl Centro Olistico e Reiki Luisa OSPITA con enorme piacere sabato 25 maggio 2024 Claudio Galli per l’Allineamento Divino a Locarno. L’Instaurazione dell’Ordine Divino dona beneficio a tutti i livelli dell’esistenza  come da tutto quanto vi spiegherà lo stesso Claudio Galli.  Preciso che Tutte le Attività di Claudio Galli esercitate presso il “Centro Olistico e Reiki Luisa” a Locarno sono COMPLETAMENTE sotto la sua RESPONSABILITÀ. \nLuisa Macocchi-Del Priore e il “Centro Olistico e Reiki Luisa” sono COMPLETAMENTE ESONERATI DA QUALSIASI RESPONSABILITÀ per qualsiasi cosa possa succedere durante e dopo l’Allineamento Divino. Luisa con piacere dona a tutti voi questa possibilità di fare l’Allineamento ma ci tiene a RESPONSABILIZZARE OGNI PERSONA PER LE SUE SCELTE E LO STESSO Claudio Galli per L’ATTIVITÀ che svolge con Amore e Professionalità durante questo pomeriggio e per quanto potrebbe ancora uscire dopo l’Allineamento Divino poiché lo stesso Claudio ci spiegherà con Professionalità che in QUESTA ATTIVAZIONE ENERGETICA OGNI  SINGOLA PERSONA SI ASSUME LA PIENA RESPONSABILITÀ’ DI QUELLO CHE DECIDE DI FARE.  \n  \nMi sento onorata di ospitare Claudio Galli per l’Allineamento Divino onde proporlo alle persone che desiderano e decidono dopo la conferenza di riceverlo. \nIscrizione/presenza per la Conferenza è confermata contattando o scrivendo: \ninfo@centro-reiki.ch oppure chiamare lo 0041(0) 79 715 32 59 \nCon amore e un sorriso. \n𝓛𝓾𝓲𝓼𝓪 𝓜𝓪𝓬𝓸𝓬𝓬𝓱𝓲-𝓓𝓮𝓵 𝓟𝓻𝓲𝓸𝓻𝓮\n▫\n𝐒𝐩𝐢𝐫𝐢𝐭𝐮𝐚𝐥 𝐆𝐮𝐢𝐝𝐞®️ 𝐋𝐞𝐢𝐟𝐞 𝐂𝐨𝐚𝐜𝐡®️ 𝐒𝐞𝐧𝐬𝐢𝐭𝐢𝐯𝐚®️ 𝐂𝐚𝐧𝐚𝐥𝐢𝐳𝐳𝐚𝐭𝐫𝐢𝐜𝐞®️ 𝐌𝐞𝐝𝐢𝐮𝐦®️ \nALTRE INFORMAZIONI LE TROVI SUL MIO SITO:\nwww.centro-reiki.ch\ninfo@centro-reiki.ch\n+41(0)797153259 \n  \n 
URL:https://centro-reiki.ch/evento/conferenza-e-trattamenti-energetici-di-allineamento-divino-secondo-il-metodo-heilerschule-di-anne-hubner-con-claudio-galli-5/
LOCATION:Centro Olistico e Reiki Luisa\, Via Villibaldo Bastoria 15\, Locarno\, Svizzera
CATEGORIES:Allineamento Divino,Conferenza pubblica,Spritualità,Trattamenti energetici
ATTACH;FMTTYPE=image/jpeg:https://centro-reiki.ch/wp-content/uploads/IMG-20230218-WA0000.jpg
END:VEVENT
BEGIN:VEVENT
DTSTART;TZID=Europe/Zurich:20240526T091500
DTEND;TZID=Europe/Zurich:20240526T183000
DTSTAMP:20260422T033314
CREATED:20240405T082535Z
LAST-MODIFIED:20240405T091725Z
UID:6021-1716714900-1716748200@centro-reiki.ch
SUMMARY:Seminario Primo Livello Reiki Metodo Usui
DESCRIPTION:“`Promemoria Reiki e Informazioni Importanti“`\n \n  \nI corsi si tengono nella giornata di Domenica presso SCUOLA REIKI PER TUTTI:\nSede:\nVia Villibaldo Bastoria 15\n6600 Locarno\nwww.centro-reiki.ch\ninfo@centro-reiki.ch \nSU RICHIESTA E FATTIBILE RICHIEDERE DI SVOLGERE IL CORSO INDIVIDUALMENTE E IN UN ALTRA GIORNATA\nLasciate la vostra mail nel modulo sottostante\, e riceverete nelle prossime 24 ore tutte le informazioni che desiderate sul seminario Reiki. \n\n\n\n  \n\n\n\n \n \n \n \n \n \n \n \nSeleziona il livello desiderato *\n—Seleziona un'opzione—Primo livelloSecondo livelloTerzo livelloMaster\n \n \n \nInviando il formulario accetto di essere iscritto alla newsletter e di ricevere invii futuri *\n \n\n ×\n\n\n \n\n\n  \nPrezzo: CHF 340.00 – 1 giornata dalle ore 09:15 alle ore 18:45 (260.00 CHF fino ai 25 anni e dai 55 anni in su) \nLasciate la vostra mail nel modulo sottostante\, e riceverete nelle prossime 24 ore tutte le informazioni che desiderate sul seminario Reiki. \n\n\n\n  \n\n\n\n \n \n \n \n \n \n \n \n \n \nNumero di partecipanti 123456\n \nInviando il formulario accetto di essere iscritto alla newsletter e di ricevere invii futuri *\n \n\n ×\n\n\n \n  \nInformazioni Seminario Primo Livello Reiki Usui a Locarno SCUOLA REIKI PER TUTTI\n\n\n\nIN CASO DI MANCATA PARTECIPAZIONE QUESTE SONO LE REGOLE PER IL RIMBORSO: \nRinuncia almeno 40 giorni prima dell’evento o seminario: \nRestituzione totale della caparra/quota versata. \nRinuncia tra 15 giorni e un mese prima dell’evento o seminario: \n50% della quota verrà trattenuta \nRinuncia 2 settimane prima dell’evento la quota viene trattenuta e o eventualmente bonificata per un prossimo evento. \nLe iscrizioni chiudono 5 giorni prima dell’evento. \nL’organizzazione si riserva di rimandare o annullare il corso se non viene raggiunto il numero minimo di partecipanti. In caso di annullamento da parte dell’organizzazione\, viene rimborsata al partecipante l’intera somma della quota pagata. Viene rimborsata al partecipante l’intera somma della quota pagata anche in caso di rinvio salvo se il partecipante chiede di trattenere i soldi per la prossima data che verrà concordata in merito all’evento/seminario che è stato rimandato a data da definire. \nLe persone iscritte verranno avvisate del rinvio al più tardi 3 giorni prima della data prevista per il corso. \nASSICURAZIONI/RESPONSABILITÀ: \nL’assicurazione è a carico dei partecipanti. Gli organizzatori declinano ogni responsabilità in caso d’incidente\, danni materiali o furto. Ogni partecipante è in tutti i casi responsabile per sé stesso. \nSVOLGIMENTO DEL SEMINARIO:\nIl seminario si terrà con un minimo di 2 persone fino ad un massimo di 6/8 persone onde mantenere una buona energia di gruppo. \nSVOLGIMENTO DEL SEMINARIO:\nIl seminario si terrà con un minimo di 2 persone fino ad un massimo di 6/8 persone onde mantenere una buona energia di gruppo. \n  \n\n\n\nInsegnamenti del Corso Reiki Primo Livello Usui\nConsiste nell’armonizzazione rituale del canale di energia Universale e l’apprendimento delle posizioni chiave delle mani per effettuare i vari trattamenti. \nRicevere l’apertura del canale di Energia Universale dal Reiki Master e a volte con gruppi di più persone con ben due Master Reiki un esperienza indimenticabile in quanto le 4 attivazioni vengono svolte 4 volte dalla Master Reiki Luisa con l’energia femminile e 4 volte con l’Energia Maschile del Master Reiki Alex Dawson o del Master Reiki Alain Dotta. \nUn corso di Primo Livello Reiki strutturato in 1 GIORNATA di didattica teorico-pratica di 8/1o ore \n \nSPIEGAZIONE BREVE: \n\n  \nObiettivi del Corso di Reiki di 1° livello:\n\nStoria del Reiki\nSpiegazione di Mikao Usui\nSpiegazione dei 7 Chakra\nIl Reiki rivolto a noi stessi\nSull’arco della giornata 4 iniziazioni\, se con due Master Reiki 8 attivazioni cioè 4 con l’Energia femminile della Master Luisa Macocchi-Del Priore e 4 con l’Energia maschile del Master Alex Dawson o del Master Alain Dotta\, per il conseguimento del Primo Livello Reiki\nPosizioni del Reiki\nTrattamento Veloce\nEnergizzare gli altri\, gli animali e le piante\nReiki al cibo\, all’acqua\, agli ambienti\nRimettere in equilibrio i 7 Chakra per il libero fluire dell’energia universale\nAccarezzamento dell’aura\nPratiche meditative e primi approcci di canalizzazione energetica\nPratiche di auto trattamento.\nPratiche di trattamento completo.\n\n  \nINOLTRE:\n\nRicevere le informazioni necessarie per praticare il Reiki con la massima serietà e professionalità.\nConsegna di un fascicolo di quasi 70 pagine inerente il Primo Livello Reiki a cura della Master Reiki Luisa Macocchi-Del Priore\nPraticare l’auto-trattamento\, il trattamento completo\, il trattamento veloce\, il riequilibrio dei chakra.\n\n  \nIMPORTANTE:\nIl passaggio energetico  “Attivazione al Reiki” si armonizza\, una sola volta ed è valido per tutta la vita. \nCONSEGNA DIPLOMI:\nConsegna dei diplomi di Reiki Uno della Scuola “Reiki per tutti” con sede presso il Centro Olistico e Reiki Luisa in via Villibaldo Bastoria 15 a Locarno (TI)  Svizzera di Luisa Macocchi-Del Priore e Alex Dawson. \n \nPROMEMORIA IMPORTANTE:\nReiki Usui metodo naturale di guarigione\nL’auto-trattamento o il trattamento di Reiki Usui avviene attraverso l’imposizione delle mani sul o vicino al corpo del ricevente. Usando le tradizionali posizioni chiave\, si ricarica la parte debole\, ristabilendo il processo di guarigione autonomo presente nell’organismo. \nL’operatore Reiki trasmette energia Universale\nÈ importante sapere che l’energia trasmessa (a sé oppure agli altri) non è personale\, ma bensì Universale.\nVale a dire che l’operatore  Reiki\, non si stanca\, ma anzi permette al suo corpo di purificarsi e rigenerarsi al passaggio dell’energia. \nIl Reiki è di tutti e per tutti\n\nIl Reiki si può trasmettere a tutti e a tutto\, anche agli animali\, alle piante e a situazioni di vita.\nIl Reiki non necessita di diagnosi\, eppure armonizza tutti gli strati della personalità\, corpo\, mente e spirito.\nOgnuno può adoperarlo ed in qualsiasi luogo.\nAgisce subito e dura nel tempo. La sua azione è sempre completa e non diretta solo ai sintomi.\n\nL’insegnamento completo del Reiki si divide in tre livelli:\nIl 1° livello permette di autotrattarsi e di imparare a fare diversi tipi di trattamenti su altre persone\, come il trattamento veloce\, il trattamento completo e il trattamento dei chakra.\nNel corso di 2° livello si impara ad usare i simboli e l’energia per fare trattamenti a distanza\, risanare ambienti\, ecc..\nNel 3° livello si riceve il simbolo del maestro che potenzia l’energia e si impara ad usarlo.\nLa 2.a parte del 3° livello chiamato Masster Reiki permette di ricevere la Maestria e l’insegnamento per poter insegnare il Reiki Usui. \nUna volta ricevuto il Terzo Livello Reiki deve passare un ulteriore periodo di almeno tre anni di pratica e di supervisione per integrare adeguatamente l’energia del Terzo Livello con tutti i simboli prima di poter ricevere l’Attestazione come Maestro/a di Reiki della “Scuola Reiki per tutti” a Locarno almeno che non si tratti di allievi che seguono il Reiki e lo praticano nella vita quotidiana e sulle persone da alcuni anni. \nMaster Reiki Luisa Macocchi-Del Priore \n  \nhttps://centro-reiki.ch/wp-content/uploads/VID-20211001-WA0022.mp4\n  \n💎💎💎 \nIMPORTANTE:\nI TRATTAMENTI DI CUI SOPRA NON SOSTITUISCONO IN ALCUN MODO QUELLI DEL MEDICO\, DELLO PSICOLOGO O DI QUALUNQUE ALTRO OPERATORE SOCIO-SANITARIO. NON VENGONO EFFETTUATE DIAGNOSI DI CARATTERE MEDICO O PSICOLOGICO\, NON VENGONO PRESCRITTI O SOMMINISTRATI FARMACI DI ALCUN TIPO E I TRATTAMENTI SI REALIZZANO CON LA PERSONA NORMALMENTE VESTITA. \nNON sono un Medico\, NON faccio diagnosi e NON prometto Guarigioni. L’ospite che arriva nel mio centro si assume la piena responsabilità per le proprie azioni e le proprie decisioni\, prima\, durante e dopo il trattamento. \n💎💎💎 \nINFORMAZIONE IMPORTANTE\nQuando nei miei scritti o nel mio sito viene utilizzata la parola “Guarigione” o suoi sinonimi\, devono essere interpretati come felicità\, pace\, armonia\, guarigione spirituale. Eventuali miglioramenti dello stato fisico andranno interpretati come un possibile effetto di questo ritrovato stato di armonia. L’operatore Reiki\, rispettivamente una Medium e Sensitiva Angelica e qualsiasi altro operatore che opere nel Centro Olistico e Reiki Luisa NON è un medico. In nessun caso può prescrivere o sconsigliare l’uso di farmaci\, cure o terapie. \n💎💎💎 \n𝙌𝙐𝙀𝙎𝙏𝙊 È 𝙐𝙉 𝙎𝙀𝙍𝙑𝙄𝙕𝙄𝙊 𝙊𝙇𝙄𝙎𝙏𝙄𝘾𝙊 𝙍𝙄𝙑𝙊𝙇𝙏𝙊 𝘼𝙇 𝙍𝙄𝙀𝙌𝙐𝙄𝙇𝙄𝘽𝙍𝙄𝙊 𝙀𝙉𝙀𝙍𝙂𝙀𝙏𝙄𝘾𝙊\, 𝙀 𝙉𝙊𝙉 𝙐𝙉 𝙏𝙍𝘼𝙏𝙏𝘼𝙈𝙀𝙉𝙏𝙊 𝙈𝙀𝘿𝙄𝘾𝙊 /𝙁𝙄𝙎𝙄𝙊𝙏𝙀𝙍𝘼𝙋𝙄𝘾𝙊 /𝙋𝙎𝙄𝘾𝙊𝙇𝙊𝙂𝙄𝘾𝙊 /𝙋𝙎𝙄𝘾𝙃𝙄𝘼𝙏𝙏𝙍𝙄𝘾𝙊 𝘿𝙄 𝘼𝙇𝘾𝙐𝙉 𝙏𝙄𝙋𝙊. \n📌 𝙏𝙐𝙏𝙏𝙀 𝙇𝙀 𝙄𝙉𝙁𝙊𝙍𝙈𝘼𝙕𝙄𝙊𝙉I SULLA SCUOLA REIKI\, SUI VARI SEMINARI REIKI\, E ULTERIORI DELUCIDAZIONI VAI SUL LINNK DELLA SCUOLA REIKI DEL 𝙎𝙄𝙏𝙊 !!! 📌 \n  \n 
URL:https://centro-reiki.ch/evento/seminario-primo-livello-reiki-metodo-usui-15/
LOCATION:Centro Olistico e Reiki Luisa\, Via Villibaldo Bastoria 15\, Locarno\, Svizzera
CATEGORIES:Benessere e relax,Meditazione,Seminari Reiki,Seminario,Seminario Reiki,Spritualità,Trattamenti energetici
ATTACH;FMTTYPE=image/png:https://centro-reiki.ch/wp-content/uploads/20211128_082817_0000-1.png
ORGANIZER;CN="Luisa Macocchi-Del Priore":MAILTO:info@centro-reiki.ch
END:VEVENT
END:VCALENDAR