BEGIN:VCALENDAR
VERSION:2.0
PRODID:-//Centro olistico e Reiki Luisa - ECPv6.15.13.1//NONSGML v1.0//EN
CALSCALE:GREGORIAN
METHOD:PUBLISH
X-WR-CALNAME:Centro olistico e Reiki Luisa
X-ORIGINAL-URL:https://centro-reiki.ch
X-WR-CALDESC:Eventi per Centro olistico e Reiki Luisa
REFRESH-INTERVAL;VALUE=DURATION:PT1H
X-Robots-Tag:noindex
X-PUBLISHED-TTL:PT1H
BEGIN:VTIMEZONE
TZID:Europe/Rome
BEGIN:DAYLIGHT
TZOFFSETFROM:+0100
TZOFFSETTO:+0200
TZNAME:CEST
DTSTART:20240331T010000
END:DAYLIGHT
BEGIN:STANDARD
TZOFFSETFROM:+0200
TZOFFSETTO:+0100
TZNAME:CET
DTSTART:20241027T010000
END:STANDARD
BEGIN:DAYLIGHT
TZOFFSETFROM:+0100
TZOFFSETTO:+0200
TZNAME:CEST
DTSTART:20250330T010000
END:DAYLIGHT
BEGIN:STANDARD
TZOFFSETFROM:+0200
TZOFFSETTO:+0100
TZNAME:CET
DTSTART:20251026T010000
END:STANDARD
BEGIN:DAYLIGHT
TZOFFSETFROM:+0100
TZOFFSETTO:+0200
TZNAME:CEST
DTSTART:20260329T010000
END:DAYLIGHT
BEGIN:STANDARD
TZOFFSETFROM:+0200
TZOFFSETTO:+0100
TZNAME:CET
DTSTART:20261025T010000
END:STANDARD
END:VTIMEZONE
BEGIN:VEVENT
DTSTART;TZID=Europe/Rome:20250310T200000
DTEND;TZID=Europe/Rome:20250310T220000
DTSTAMP:20260421T154607
CREATED:20250219T132143Z
LAST-MODIFIED:20250310T113111Z
UID:6267-1741636800-1741644000@centro-reiki.ch
SUMMARY:Serata informativa: Disturbo di labirintite (annullata e spostata in maggio vedi eventi)
DESCRIPTION:Descrizione\n \nArgomento sarà il disturbo di labirintite\, causa ed effetto\, come prevenire e trattare.\nSarà inoltre aperto ai presenti di chiedere informazioni su altre dinamiche di disturbi. \n– Classificazione\n– Vertigini SN centrale\n– Vari tipi di vertigini\n– Interpretazione da parte della medicina ayurveda sulla labirintite e vertigini\n– Prevenzione\n– Possibilità di trattamenti ed eliminazione del disturbo. \nLa serata sarà informativa condotta da Graziella Primucci\, terapista clinica diplomatasi in India con riconoscimento ufficiale dal Gov. India. \n[𝐈𝐬𝐜𝐫𝐢𝐳𝐢𝐨𝐧𝐢 𝐀𝐩𝐞𝐫𝐭𝐞] \nNon perdetevi questa incredibile esperienza! \nVi aspettiamo con amore e tanta gioia nel cuore. \nOrario: 20.00 – 22.00 – Giorno: Lunedì 10 marzo 2025\nPrerequisiti: nessuno\nPartecipazione: Entrata Gratuita \n🪑Visti i posti limitati è consigliabile riservare. \nPrenotazione obbligatoria entro il 7 marzo 2025 \n  \n \nPer iscrizioni ed informazioni: \nLuisa Macocchi-Del Priore\ne-mail: \n\nLuisa aiuto spirituale in diverse tecniche \n\nTel.: +41797153259 \nSVOLGIMENTO DELLA SERATA INFORMATIVA: \nIl seminario si terrà con un minimo di 4 persone  \nIn caso avessi prenotato la tua presenza ma non potrai più partecipare\, sii responsabile\, per cortesia avvisa subito telefonicamente! \nAssicurazioni/Responsabilità: \nL’assicurazione è a carico dei partecipanti. Gli organizzatori declinano ogni responsabilità in caso d’incidente\, danni materiali o furto. Ogni partecipante è in tutti i casi responsabile per se stesso. \nPER ISCRIVERTI ALLA NEWSLETTER COMPILA I TUOI DATI CLICCANDO  QUI SU NEWSLETTER: \nUn abbraccio forte a tutti. \nLuisa Macocchi-Del Priore  \nInsegnante Certificata ThetaHealing® – Emotional Mental Coach – Operatice Olistica – Spiritual Life Coach Hanneling –\nSensitiva e Medium – Canalizzatrice Registri Acaschici – Messaggera di Luce – Master Reiki – Certified Angel Card Readers\nTarot Reading® Channel®\n COPYRIGHT © 2025 Centro Olistico e Reiki Luisa
URL:https://centro-reiki.ch/evento/serata-informativa-su-disturbo-di-labirintite-causa-ed-effetto-come-prevenire-e-trattare-con-la-medicina-tradizionale-ayurveda/
LOCATION:Centro Olistico e Reiki Luisa\, Via Villibaldo Bastoria 15\, Locarno\, Svizzera
CATEGORIES:Conferenza pubblica,Serata a tema,Serata esperenziale,Spritualità
ATTACH;FMTTYPE=image/jpeg:https://centro-reiki.ch/wp-content/uploads/317a9258-6a12-45e1-ba7a-cc521e0f6cb5.jpeg
ORGANIZER;CN="Luisa Macocchi-Del Priore":MAILTO:info@centro-reiki.ch
END:VEVENT
BEGIN:VEVENT
DTSTART;TZID=Europe/Rome:20250313T200000
DTEND;TZID=Europe/Rome:20250313T220000
DTSTAMP:20260421T154607
CREATED:20250212T193109Z
LAST-MODIFIED:20250313T124053Z
UID:6205-1741896000-1741903200@centro-reiki.ch
SUMMARY:DIMOSTRAZIONE PUBBLICA DI MEDIANITÂ PER FORZA MAGGIORE E' STATA POSTICIPATA ALL'8.4.2025
DESCRIPTION:“Con grande rammarico vi comunichiamo che la dimostrazione pubblica di medianità a causa del basso numero di iscritti è stata posticipata all’8.4.2025”\nDescrizione\nSono entusiasta di  invitarvi a partecipare alla dimostrazione pubblica di Medianità e Channeling a Locarno presso il Centro Olistico e Reiki Luisa a Locarno. \nIl Mondo Spirituale è sempre con noi e ci accompagna nella nostra realtà quotidiana. \nIl Mondo Fisico e il Mondo Spirituale: due mondi apparentemente divisi che la consapevolezza\, l’amore\, l’ascolto uniscono. \nIn questa serata la Sensitiva e Medium Angelica Luisa Macocchi-Del Priore sarà il tramite. \nAscoltiamo la presenza – essenza dei nostri Cari che ci vengono in aiuto dandoci prova della loro perenne esistenza\, e le nostre Guide con i loro messaggi di luce e di amore. \n[𝐈𝐬𝐜𝐫𝐢𝐳𝐢𝐨𝐧𝐢 𝐀𝐩𝐞𝐫𝐭𝐞] \nNon perdetevi questa incredibile esperienza! \nVi aspetto con amore e tanta gioia nel cuore. \nOrario: 20.00 – 22.00 – Giorno: Giovedì 13 marzo 2025\nPrerequisiti: nessuno\nPartecipazione: 25.00 CHF/Euro \nSVOLGIMENTO DELL’EVENTO:  \nl’Evento si terrà con un minimo di 3 persone fino ad un massimo di 15 persone onde mantenere una buona energia di gruppo. \n🪑Visti i posti limitati è consigliabile riservare. \nPagamento:\nIn contanti al momento dell’Evento oppure con Twint\, Pay Pal\, Bonifico Bancario\, Carta di Credito \nPrenotazione obbligatoria entro il 10 marzo 2025 \nPer iscrizioni ed informazioni:\nLuisa Macocchi-Del Priore\ne-mail: https://centro-reiki.ch/aiuto-spirituale/\nTel.: +41797153259 \nIn caso avessi prenotato la tua presenza ma non potrai più partecipare\, sii responsabile\, per cortesia avvisa subito telefonicamente! \n\nAssicurazioni/Responsabilità: \nL’assicurazione è a carico dei partecipanti. Gli organizzatori declinano ogni responsabilità in caso d’incidente\, danni materiali o furto. Ogni partecipante è in tutti i casi responsabile per se stesso. \nPER ISCRIVERTI ALLA NEWSLETTER COMPILA I TUOI DATI CLICCANDO  QUI SU NEWSLETTER: \nCOSA PORTARE: \n\nPlaid e cuscino personali\nAccederai alla sala senza scarpe – porta con te un paio di calze per stare al caldo\nConsuma un pasto leggero\nPorta con te una bottiglia d’acqua\n\n\nUn abbraccio forte a tutti. \nLuisa Macocchi-Del Priore  \n𝐄𝐦𝐨𝐭𝐢𝐨𝐧𝐚𝐥 𝐌𝐞𝐧𝐭𝐚𝐥 𝐂𝐨𝐚𝐜𝐡® \n𝐎𝐩𝐞𝐫𝐚𝐭𝐫𝐢𝐜𝐞 𝐎𝐥𝐢𝐬𝐭𝐢𝐜𝐚\n𝐒𝐩𝐢𝐫𝐢𝐭𝐮𝐚𝐥 𝐋𝐢𝐟𝐞 𝐂𝐨𝐚𝐜𝐡® \n𝐂𝐡𝐚𝐧𝐧𝐞𝐥𝐢𝐧𝐠® \n𝐒𝐞𝐧𝐬𝐢𝐭𝐢𝐯𝐚® 𝐌𝐞𝐝𝐢𝐮𝐦® 𝐀𝐧𝐠𝐞𝐥𝐢𝐜𝐚\n𝐌𝐞𝐬𝐬𝐚𝐠𝐠𝐞𝐫𝐚 𝐝𝐢 𝐋𝐮𝐜𝐞®\n𝐂𝐞𝐫𝐭𝐢𝐟𝐢𝐞𝐝 𝐀𝐧𝐠𝐞𝐥 𝐂𝐚𝐫𝐝 𝐑𝐞𝐚𝐝𝐞𝐫𝐬\n𝐓𝐚𝐫𝐨𝐭 𝐑𝐞𝐚𝐝𝐢𝐧𝐠® C𝐡𝐚𝐧𝐧𝐞𝐥®\n COPYRIGHT © 2025 Centro Olistico e Reiki Luisa
URL:https://centro-reiki.ch/evento/dimostrazione-pubblica-di-medianita-e-channeling-a-locarno-con-la-medium-e-sensitiva-luisa/
LOCATION:Centro Olistico e Reiki Luisa\, Via Villibaldo Bastoria 15\, Locarno\, Svizzera
CATEGORIES:Channeling,Conferenza pubblica,Meditazione,Serata a tema,Serata esperenziale,Spritualità
ATTACH;FMTTYPE=image/jpeg:https://centro-reiki.ch/wp-content/uploads/03d0f425f4b3b80e524c8545e04bb534.jpg
ORGANIZER;CN="Luisa Macocchi-Del Priore":MAILTO:info@centro-reiki.ch
END:VEVENT
END:VCALENDAR