BEGIN:VCALENDAR
VERSION:2.0
PRODID:-//Centro olistico e Reiki Luisa - ECPv6.15.13.1//NONSGML v1.0//EN
CALSCALE:GREGORIAN
METHOD:PUBLISH
X-ORIGINAL-URL:https://centro-reiki.ch
X-WR-CALDESC:Eventi per Centro olistico e Reiki Luisa
REFRESH-INTERVAL;VALUE=DURATION:PT1H
X-Robots-Tag:noindex
X-PUBLISHED-TTL:PT1H
BEGIN:VTIMEZONE
TZID:Europe/Rome
BEGIN:DAYLIGHT
TZOFFSETFROM:+0100
TZOFFSETTO:+0200
TZNAME:CEST
DTSTART:20240331T010000
END:DAYLIGHT
BEGIN:STANDARD
TZOFFSETFROM:+0200
TZOFFSETTO:+0100
TZNAME:CET
DTSTART:20241027T010000
END:STANDARD
BEGIN:DAYLIGHT
TZOFFSETFROM:+0100
TZOFFSETTO:+0200
TZNAME:CEST
DTSTART:20250330T010000
END:DAYLIGHT
BEGIN:STANDARD
TZOFFSETFROM:+0200
TZOFFSETTO:+0100
TZNAME:CET
DTSTART:20251026T010000
END:STANDARD
BEGIN:DAYLIGHT
TZOFFSETFROM:+0100
TZOFFSETTO:+0200
TZNAME:CEST
DTSTART:20260329T010000
END:DAYLIGHT
BEGIN:STANDARD
TZOFFSETFROM:+0200
TZOFFSETTO:+0100
TZNAME:CET
DTSTART:20261025T010000
END:STANDARD
END:VTIMEZONE
BEGIN:VEVENT
DTSTART;TZID=Europe/Rome:20250408T200000
DTEND;TZID=Europe/Rome:20250408T220000
DTSTAMP:20260421T130649
CREATED:20250313T091805Z
LAST-MODIFIED:20250316T103553Z
UID:6569-1744142400-1744149600@centro-reiki.ch
SUMMARY:DIMOSTRAZIONE PUBBLICA DI MEDIANITÂ E CHANNELING A LOCARNO CON LA MEDIUM E SENSITIVA LUISA
DESCRIPTION:Descrizione\nSono entusiasta di  invitarvi a partecipare alla dimostrazione pubblica di Medianità e Channeling a Locarno presso il Centro Olistico e Reiki Luisa a Locarno. \nIl Mondo Spirituale è sempre con noi e ci accompagna nella nostra realtà quotidiana. \nIl Mondo Fisico e il Mondo Spirituale: due mondi apparentemente divisi che la consapevolezza\, l’amore\, l’ascolto uniscono. \nIn questa serata la Sensitiva e Medium Angelica Luisa Macocchi-Del Priore sarà il tramite. \nAscoltiamo la presenza – essenza dei nostri Cari che ci vengono in aiuto dandoci prova della loro perenne esistenza\, e le nostre Guide con i loro messaggi di luce e di amore. \n[𝐈𝐬𝐜𝐫𝐢𝐳𝐢𝐨𝐧𝐢 𝐀𝐩𝐞𝐫𝐭𝐞] \nNon perdetevi questa incredibile esperienza! \nVi aspetto con amore e tanta gioia nel cuore. \nOrario: 20.00 – 22.00 – Giorno: Martedì 8 aprile 2025\nPrerequisiti: nessuno\nPartecipazione: 25.00 CHF/Euro \nSVOLGIMENTO DELL’EVENTO:  \nl’Evento si terrà con un minimo di 3 persone fino ad un massimo di 15 persone onde mantenere una buona energia di gruppo. \n🪑Visti i posti limitati è consigliabile riservare. \nPagamento:\nIn contanti sul posto prima dell’inizio dell’evento oppure con Twint\, Pay Pal\, Bonifico Bancario\, Carta di Credito \nPrenotazione obbligatoria entro il 6 aprile 2025 \n🪑Visti i posti limitati è consigliabile riservare il posto  \nPer iscrizioni ed informazioni:\nLuisa Macocchi-Del Priore\ne-mail: https://centro-reiki.ch/aiuto-spirituale/\nTel.: +41797153259 \nIn caso avessi prenotato la tua presenza ma non potrai più partecipare\, sii responsabile\, per cortesia avvisa subito telefonicamente! \n\nAssicurazioni/Responsabilità: \nL’assicurazione è a carico dei partecipanti. Gli organizzatori declinano ogni responsabilità in caso d’incidente\, danni materiali o furto. Ogni partecipante è in tutti i casi responsabile per se stesso. \nPER ISCRIVERTI ALLA NEWSLETTER COMPILA I TUOI DATI CLICCANDO  QUI SU NEWSLETTER: \nCOSA PORTARE: \n\nPlaid e cuscino personali\nAccederai alla sala senza scarpe – porta con te un paio di calze per stare al caldo\nConsuma un pasto leggero\nPorta con te una bottiglia d’acqua\n\n\nUn abbraccio forte a tutti. \nLuisa Macocchi-Del Priore  \n𝐄𝐦𝐨𝐭𝐢𝐨𝐧𝐚𝐥 𝐌𝐞𝐧𝐭𝐚𝐥 𝐂𝐨𝐚𝐜𝐡® \n𝐎𝐩𝐞𝐫𝐚𝐭𝐫𝐢𝐜𝐞 𝐎𝐥𝐢𝐬𝐭𝐢𝐜𝐚\n𝐒𝐩𝐢𝐫𝐢𝐭𝐮𝐚𝐥 𝐋𝐢𝐟𝐞 𝐂𝐨𝐚𝐜𝐡® \n𝐂𝐡𝐚𝐧𝐧𝐞𝐥𝐢𝐧𝐠® \n𝐒𝐞𝐧𝐬𝐢𝐭𝐢𝐯𝐚® 𝐌𝐞𝐝𝐢𝐮𝐦® 𝐀𝐧𝐠𝐞𝐥𝐢𝐜𝐚\n𝐌𝐞𝐬𝐬𝐚𝐠𝐠𝐞𝐫𝐚 𝐝𝐢 𝐋𝐮𝐜𝐞®\n𝐂𝐞𝐫𝐭𝐢𝐟𝐢𝐞𝐝 𝐀𝐧𝐠𝐞𝐥 𝐂𝐚𝐫𝐝 𝐑𝐞𝐚𝐝𝐞𝐫𝐬\n𝐓𝐚𝐫𝐨𝐭 𝐑𝐞𝐚𝐝𝐢𝐧𝐠® C𝐡𝐚𝐧𝐧𝐞𝐥®\n COPYRIGHT © 2025 Centro Olistico e Reiki Luisa\nFonte immagini da Pinterest: Beautiful Photography by Shihya Kowatari
URL:https://centro-reiki.ch/evento/dimostrazione-pubblica-di-medianita-e-channeling-a-locarno-con-la-medium-e-sensitiva-luisa-2/
LOCATION:Centro Olistico e Reiki Luisa\, Via Villibaldo Bastoria 15\, Locarno\, Svizzera
CATEGORIES:Channeling,Conferenza pubblica,Meditazione,Serata a tema,Serata esperenziale,Spritualità
ATTACH;FMTTYPE=image/jpeg:https://centro-reiki.ch/wp-content/uploads/12b2fef8362dabb1ab6f81b725ba5429.jpg
ORGANIZER;CN="Luisa Macocchi-Del Priore":MAILTO:info@centro-reiki.ch
END:VEVENT
END:VCALENDAR