BEGIN:VCALENDAR
VERSION:2.0
PRODID:-//Centro olistico e Reiki Luisa - ECPv6.15.13.1//NONSGML v1.0//EN
CALSCALE:GREGORIAN
METHOD:PUBLISH
X-ORIGINAL-URL:https://centro-reiki.ch
X-WR-CALDESC:Eventi per Centro olistico e Reiki Luisa
REFRESH-INTERVAL;VALUE=DURATION:PT1H
X-Robots-Tag:noindex
X-PUBLISHED-TTL:PT1H
BEGIN:VTIMEZONE
TZID:Europe/Rome
BEGIN:DAYLIGHT
TZOFFSETFROM:+0100
TZOFFSETTO:+0200
TZNAME:CEST
DTSTART:20240331T010000
END:DAYLIGHT
BEGIN:STANDARD
TZOFFSETFROM:+0200
TZOFFSETTO:+0100
TZNAME:CET
DTSTART:20241027T010000
END:STANDARD
BEGIN:DAYLIGHT
TZOFFSETFROM:+0100
TZOFFSETTO:+0200
TZNAME:CEST
DTSTART:20250330T010000
END:DAYLIGHT
BEGIN:STANDARD
TZOFFSETFROM:+0200
TZOFFSETTO:+0100
TZNAME:CET
DTSTART:20251026T010000
END:STANDARD
BEGIN:DAYLIGHT
TZOFFSETFROM:+0100
TZOFFSETTO:+0200
TZNAME:CEST
DTSTART:20260329T010000
END:DAYLIGHT
BEGIN:STANDARD
TZOFFSETFROM:+0200
TZOFFSETTO:+0100
TZNAME:CET
DTSTART:20261025T010000
END:STANDARD
END:VTIMEZONE
BEGIN:VEVENT
DTSTART;TZID=Europe/Rome:20250512T190000
DTEND;TZID=Europe/Rome:20250512T200000
DTSTAMP:20260421T130732
CREATED:20250310T104945Z
LAST-MODIFIED:20250509T082240Z
UID:6483-1747076400-1747080000@centro-reiki.ch
SUMMARY:Serata informativa: Disturbo di labirintite\, causa ed effetto\, come prevenire e trattare con la medicina tradizionale Ayurveda
DESCRIPTION:Descrizione\n \nArgomento sarà il disturbo di labirintite\, causa ed effetto\, come prevenire e trattare.\nSarà inoltre aperto ai presenti di chiedere informazioni su altre dinamiche di disturbi. \n– Classificazione\n– Vertigini SN centrale\n– Vari tipi di vertigini\n– Interpretazione da parte della medicina ayurveda sulla labirintite e vertigini\n– Prevenzione\n– Possibilità di trattamenti ed eliminazione del disturbo. \nLa serata sarà informativa condotta da Graziella Primucci\, terapista clinica diplomatasi in India con riconoscimento ufficiale dal Gov. India. \n[𝐈𝐬𝐜𝐫𝐢𝐳𝐢𝐨𝐧𝐢 𝐀𝐩𝐞𝐫𝐭𝐞] \nNon perdetevi questa incredibile esperienza! \nVi aspettiamo con amore e tanta gioia nel cuore. \nOrario: 20.00 – 22.00 – Giorno: Lunedì 10 marzo 2025\nPrerequisiti: nessuno\nPartecipazione: Entrata Gratuita \n🪑Visti i posti limitati è consigliabile riservare. \nPrenotazione obbligatoria entro il 7 marzo 2025 \n  \n \nPer iscrizioni ed informazioni: \nLuisa Macocchi-Del Priore\ne-mail: \n\nLuisa aiuto spirituale in diverse tecniche \n\nTel.: +41797153259 \nSVOLGIMENTO DELLA SERATA INFORMATIVA: \nIl seminario si terrà con un minimo di 4 persone  \nIn caso avessi prenotato la tua presenza ma non potrai più partecipare\, sii responsabile\, per cortesia avvisa subito telefonicamente! \nAssicurazioni/Responsabilità: \nL’assicurazione è a carico dei partecipanti. Gli organizzatori declinano ogni responsabilità in caso d’incidente\, danni materiali o furto. Ogni partecipante è in tutti i casi responsabile per se stesso. \nPER ISCRIVERTI ALLA NEWSLETTER COMPILA I TUOI DATI CLICCANDO  QUI SU NEWSLETTER: \nUn abbraccio forte a tutti. \nLuisa Macocchi-Del Priore  \nInsegnante Certificata ThetaHealing® – Emotional Mental Coach – Operatice Olistica – Spiritual Life Coach Hanneling –\nSensitiva e Medium – Canalizzatrice Registri Acaschici – Messaggera di Luce – Master Reiki – Certified Angel Card Readers\nTarot Reading® Channel®\n COPYRIGHT © 2025 Centro Olistico e Reiki Luisa
URL:https://centro-reiki.ch/evento/serata-informativa-disturbo-di-labirintite-causa-ed-effetto-come-prevenire-e-trattare-con-la-medicina-tradizionale-ayurveda/
LOCATION:Centro Olistico e Reiki Luisa\, Via Villibaldo Bastoria 15\, Locarno\, Svizzera
CATEGORIES:Conferenza pubblica,Serata a tema,Serata esperenziale,Spritualità
ATTACH;FMTTYPE=image/png:https://centro-reiki.ch/wp-content/uploads/04b2073a-73ef-44f0-88e9-2b8b87598ee0.png
ORGANIZER;CN="Luisa Macocchi-Del Priore":MAILTO:info@centro-reiki.ch
END:VEVENT
BEGIN:VEVENT
DTSTART;TZID=Europe/Rome:20250512T200000
DTEND;TZID=Europe/Rome:20250512T210000
DTSTAMP:20260421T130732
CREATED:20250310T113643Z
LAST-MODIFIED:20250509T083350Z
UID:6558-1747080000-1747083600@centro-reiki.ch
SUMMARY:Serata informativa: Disturbo di labirintite\, causa ed effetto\, come prevenire e trattare con la medicina tradizionale Ayurveda
DESCRIPTION:Descrizione\n \nArgomento sarà il disturbo di labirintite\, causa ed effetto\, come prevenire e trattare.\nSarà inoltre aperto ai presenti di chiedere informazioni su altre dinamiche di disturbi. \n– Classificazione\n– Vertigini SN centrale\n– Vari tipi di vertigini\n– Interpretazione da parte della medicina ayurveda sulla labirintite e vertigini\n– Prevenzione\n– Possibilità di trattamenti ed eliminazione del disturbo. \nLa serata sarà informativa condotta da Graziella Primucci\, terapista clinica diplomatasi in India con riconoscimento ufficiale dal Gov. India. \n[𝐈𝐬𝐜𝐫𝐢𝐳𝐢𝐨𝐧𝐢 𝐀𝐩𝐞𝐫𝐭𝐞] \nNon perdetevi questa incredibile esperienza! \nVi aspettiamo con amore e tanta gioia nel cuore. \nOrario: 20.00 – 22.00 – Giorno: Lunedì 10 marzo 2025\nPrerequisiti: nessuno\nPartecipazione: Entrata Gratuita \n🪑Visti i posti limitati è consigliabile riservare. \nPrenotazione obbligatoria entro il 7 marzo 2025 \n  \n \nPer iscrizioni ed informazioni: \nLuisa Macocchi-Del Priore\ne-mail: \n\nLuisa aiuto spirituale in diverse tecniche \n\nTel.: +41797153259 \nSVOLGIMENTO DELLA SERATA INFORMATIVA: \nIl seminario si terrà con un minimo di 4 persone  \nIn caso avessi prenotato la tua presenza ma non potrai più partecipare\, sii responsabile\, per cortesia avvisa subito telefonicamente! \nAssicurazioni/Responsabilità: \nL’assicurazione è a carico dei partecipanti. Gli organizzatori declinano ogni responsabilità in caso d’incidente\, danni materiali o furto. Ogni partecipante è in tutti i casi responsabile per se stesso. \nPER ISCRIVERTI ALLA NEWSLETTER COMPILA I TUOI DATI CLICCANDO  QUI SU NEWSLETTER: \nUn abbraccio forte a tutti. \nLuisa Macocchi-Del Priore  \nInsegnante Certificata ThetaHealing® – Emotional Mental Coach – Operatice Olistica – Spiritual Life Coach Hanneling –\nSensitiva e Medium – Canalizzatrice Registri Acaschici – Messaggera di Luce – Master Reiki – Certified Angel Card Readers\nTarot Reading® Channel®\n COPYRIGHT © 2025 Centro Olistico e Reiki Luisa
URL:https://centro-reiki.ch/evento/serata-informativa-disturbo-di-labirintite-causa-ed-effetto-come-prevenire-e-trattare-con-la-medicina-tradizionale-ayurveda-2/
LOCATION:Centro Olistico e Reiki Luisa\, Via Villibaldo Bastoria 15\, Locarno\, Svizzera
CATEGORIES:Conferenza pubblica,Serata a tema,Serata esperenziale,Spritualità
ATTACH;FMTTYPE=image/png:https://centro-reiki.ch/wp-content/uploads/87cdc5b6-0806-4504-af04-7ee619f91621.png
ORGANIZER;CN="Luisa Macocchi-Del Priore":MAILTO:info@centro-reiki.ch
END:VEVENT
END:VCALENDAR